BEGIN:VCALENDAR
VERSION:2.0
PRODID:-//Contratero//ES
CALSCALE:GREGORIAN
METHOD:PUBLISH
BEGIN:VEVENT
UID:SC 18/2025@contratero.es
DTSTAMP:20260422T052330Z
DTSTART:20250408T235959
DTEND:20250409T005959
SUMMARY:Cierre: Suministro de licencias de software Autocad así co
DESCRIPTION:Suministro de licencias de software Autocad así como renovación de las existentes para varias Áreas del Ayuntamiento de San Fernando\\n\\nOrganismo: Alcaldia del Ayuntamiento de San Fernando\\n\\nVer en Contratero: https://contratero.es/contracts/SC 18/2025
URL:https://contratero.es/contracts/SC 18/2025
STATUS:CONFIRMED
BEGIN:VALARM
TRIGGER:-P1D
ACTION:DISPLAY
DESCRIPTION:Recordatorio: Suministro de licencias de sof
END:VALARM
END:VEVENT
END:VCALENDAR